BEGIN:VCALENDAR
VERSION:2.0
PRODID:-//Squarespace Inc/Squarespace 6//v6//EN
BEGIN:VEVENT
UID:5bde2d844fa51aeb8f56d532@squarespace.com
DTSTAMP:20181215T234506Z
DTSTART:20181122T050000Z
DTEND:20181122T070000Z
SUMMARY:What can social enterprise and NGOs learn from each other?
GEO:-36.843409;174.756977
LOCATION:GridAKL / John Lysaght\, 101 Pakenham St W\, Wynyard Quarter\, Auc
 kland 1010\, New Zealand
END:VEVENT
END:VCALENDAR
