BEGIN:VCALENDAR
VERSION:2.0
PRODID:-//Squarespace Inc/Squarespace 6//v6//EN
BEGIN:VEVENT
UID:5d9b9b25ff4a1e5479add21e@squarespace.com
DTSTAMP:20191008T203301Z
DTSTART:20191024T050000Z
DTEND:20191024T070000Z
SUMMARY:IDYP: Navigating Values in International Devlopment
GEO:-36.869127;174.749377
LOCATION:Garage Project Kingsland\, 357 New North Road\, Auckland\, Aucklan
 d\, 1021\, New Zealand
END:VEVENT
END:VCALENDAR
