BEGIN:VCALENDAR
VERSION:2.0
PRODID:-//Squarespace Inc/Squarespace 6//v6//EN
BEGIN:VEVENT
UID:5c7e36e924a694d3df70af63@squarespace.com
DTSTAMP:20191128T025721Z
DTSTART:20191128T043000Z
DTEND:20191128T073000Z
SUMMARY:IDYP AGM &amp\; "IDYPx" short talks
GEO:-36.842394;174.756487
LOCATION:Grid AKL\, 12 Madden Street\, Auckland\, Auckland\, 1010\, New Zea
 land
END:VEVENT
END:VCALENDAR
