BEGIN:VCALENDAR
VERSION:2.0
PRODID:-//Squarespace Inc/Squarespace 6//v6//EN
BEGIN:VEVENT
UID:5c1592128985833d5f3bd825@squarespace.com
DTSTAMP:20190205T015242Z
DTSTART:20190221T050000Z
DTEND:20190221T070000Z
SUMMARY:The value and impact of the UN Sustainable Development Goals
GEO:-36.843542;174.756396
LOCATION:GridAKL / John Lysaght\, 101 Pakenham St W\, Auckland CBD\, New Ze
 aland
END:VEVENT
END:VCALENDAR
