BEGIN:VCALENDAR
VERSION:2.0
PRODID:-//Squarespace Inc/Squarespace 6//v6//EN
BEGIN:VEVENT
UID:5c7e3506104c7bf71227e472@squarespace.com
DTSTAMP:20190320T032912Z
DTSTART:20190409T060000Z
DTEND:20190409T080000Z
SUMMARY:IDYP and SVA: Sketchnote Fever &amp\; Networking with Sylvia Duckwo
 rth
GEO:-36.868469;174.7588
LOCATION:Brother Brewery\, 5 Akiraho Street\, Auckland\, Auckland\, 1024\, 
 New Zealand
END:VEVENT
END:VCALENDAR
