BEGIN:VCALENDAR
VERSION:2.0
PRODID:-//Squarespace Inc/Squarespace 6//v6//EN
BEGIN:VEVENT
UID:5c7e359115fcc00242087acd@squarespace.com
DTSTAMP:20190507T045354Z
DTSTART:20190516T060000Z
DTEND:20190516T083000Z
SUMMARY:IDYP: The role of indigenous knowledge in sustainable development
GEO:-36.86982;174.777266
LOCATION:Pattle Delamore Partners\, level 5\, 235 Broadway\, Auckland\, Auc
 kland\, 1023\, New Zealand
END:VEVENT
END:VCALENDAR
