BEGIN:VCALENDAR
VERSION:2.0
PRODID:-//Squarespace Inc/Squarespace 6//v6//EN
BEGIN:VEVENT
UID:5c7e36029140b7a8c5191f69@squarespace.com
DTSTAMP:20190603T033544Z
DTSTART:20190620T060000Z
DTEND:20190620T083000Z
SUMMARY:IDYP: International Development Quiz Night
END:VEVENT
END:VCALENDAR
