BEGIN:VCALENDAR
VERSION:2.0
PRODID:-//Squarespace Inc/Squarespace 6//v6//EN
BEGIN:VEVENT
UID:5d2d23e2b0ee140001a20ab5@squarespace.com
DTSTAMP:20190716T011723Z
DTSTART:20190722T010000Z
DTEND:20190722T020000Z
SUMMARY:IDYP: Speaker - Lessons of Tragedy: Statecraft and World Order
GEO:-36.861085;174.759069
LOCATION:Oxfam NZ\, Level 1/14 West St\, Eden Terrace\, Auckland 1010\, New 
 Zealand
END:VEVENT
END:VCALENDAR
