BEGIN:VCALENDAR
VERSION:2.0
PRODID:-//Squarespace Inc/Squarespace 6//v6//EN
BEGIN:VEVENT
UID:5c7e3697971a18257acacb2c@squarespace.com
DTSTAMP:20190904T224432Z
DTSTART:20190912T060000Z
DTEND:20190912T080000Z
SUMMARY:IDYP: World Café "Does ethical consumption really have an impact on 
 international development?"
GEO:-36.841426;174.75468
LOCATION:Sustainable Coastlines\, 55 Madden St\, Auckland CBD\, New Zealand
END:VEVENT
END:VCALENDAR
